BEGIN:VCALENDAR
VERSION:2.0
PRODID:-//Plone.org//NONSGML plone.app.event//EN
X-WR-TIMEZONE:Europe/Vienna
BEGIN:VEVENT
SUMMARY:Poster Competition by the Working Committee for Equal Treatment
DTSTART;TZID=Europe/Vienna:20130123T170000
DTSTAMP:20260425T133942Z
UID:9db613e7625fac27098829c170c95556@www.akbild.ac.at
CREATED:20220312T182022Z
LAST-MODIFIED:20240802T103208Z
URL:https://www.akbild.ac.at/en/research/art-research-service/calls-contes
 ts/2013/poster-competition-by-the-working-committee-for-equal-treatment
END:VEVENT
BEGIN:VTIMEZONE
TZID:Europe/Vienna
X-LIC-LOCATION:Europe/Vienna
BEGIN:STANDARD
DTSTART:20121028T020000
TZNAME:CET
TZOFFSETFROM:+0200
TZOFFSETTO:+0100
END:STANDARD
END:VTIMEZONE
END:VCALENDAR
