BEGIN:VCALENDAR
VERSION:2.0
PRODID:-//Plone.org//NONSGML plone.app.event//EN
X-WR-TIMEZONE:Europe/Vienna
BEGIN:VEVENT
SUMMARY:Vagina 2.0 – Opening exhibition
DTSTART;VALUE=DATE:20131220
DTEND;VALUE=DATE:20131221
DTSTAMP:20260423T144716Z
UID:4e79a98146b8c712eb21684d9cf8f53d@www.akbild.ac.at
CREATED:20220312T182401Z
LAST-MODIFIED:20240802T103217Z
URL:https://www.akbild.ac.at/en/research/art-research-service/calls-contes
 ts/2013/vagina-2-0-2013-opening-exhibition
END:VEVENT
END:VCALENDAR
