BEGIN:VCALENDAR
VERSION:2.0
PRODID:-//Plone.org//NONSGML plone.app.event//EN
X-WR-TIMEZONE:Europe/Vienna
BEGIN:VEVENT
SUMMARY:Vevey International Photo Award 2013|2014
DTSTART;VALUE=DATE:20130315
DTEND;VALUE=DATE:20130316
DTSTAMP:20260423T114130Z
UID:17532a1568fdf8e0befd21d2121771f7@www.akbild.ac.at
CREATED:20220312T182054Z
LAST-MODIFIED:20240802T103213Z
URL:https://www.akbild.ac.at/en/research/art-research-service/calls-contes
 ts/2013/vevey-international-photo-award-2013-2014
END:VEVENT
END:VCALENDAR
