BEGIN:VCALENDAR
VERSION:2.0
PRODID:-//Plone.org//NONSGML plone.app.event//EN
X-WR-TIMEZONE:Europe/Vienna
BEGIN:VEVENT
SUMMARY:Joseph Binder Award - Come\, take part!
DTSTART;VALUE=DATE:20140531
DTEND;VALUE=DATE:20140601
DTSTAMP:20260423T114257Z
UID:89e31c23f7807602b26fe4e2e78d3b71@www.akbild.ac.at
CREATED:20220312T182438Z
LAST-MODIFIED:20240802T103217Z
URL:https://www.akbild.ac.at/en/research/art-research-service/calls-contes
 ts/2014/akbild_event.2014-05-07.0638776615
END:VEVENT
END:VCALENDAR
