BEGIN:VCALENDAR
VERSION:2.0
PRODID:-//Plone.org//NONSGML plone.app.event//EN
X-WR-TIMEZONE:Europe/Vienna
BEGIN:VEVENT
SUMMARY:IFK_Senior and IFK_Research Fellowships 2015|16
DTSTART;VALUE=DATE:20140701
DTEND;VALUE=DATE:20140702
DTSTAMP:20260419T150453Z
UID:0ed25f88ba81582847e3def8b34f6745@www.akbild.ac.at
CREATED:20220312T182459Z
LAST-MODIFIED:20240802T103217Z
URL:https://www.akbild.ac.at/en/research/art-research-service/calls-contes
 ts/2014/akbild_event.2014-05-07.8100711979
END:VEVENT
END:VCALENDAR
