BEGIN:VCALENDAR
VERSION:2.0
PRODID:-//Plone.org//NONSGML plone.app.event//EN
X-WR-TIMEZONE:Europe/Vienna
BEGIN:VEVENT
SUMMARY:Call: Graduate Conference 2014
DTSTART;VALUE=DATE:20140423
DTEND;VALUE=DATE:20140424
DTSTAMP:20260422T001527Z
UID:f8eb95b7924b5586c3d3eda02e0fd134@www.akbild.ac.at
CREATED:20220312T182435Z
LAST-MODIFIED:20240802T103217Z
URL:https://www.akbild.ac.at/en/research/art-research-service/calls-contes
 ts/2014/call-graduate-conference-2014
END:VEVENT
END:VCALENDAR
