BEGIN:VCALENDAR
VERSION:2.0
PRODID:-//Plone.org//NONSGML plone.app.event//EN
X-WR-TIMEZONE:Europe/Vienna
BEGIN:VEVENT
SUMMARY:FWF Career Development for Female Researchers
DTSTART;VALUE=DATE:20140528
DTEND;VALUE=DATE:20140529
DTSTAMP:20260424T230148Z
UID:7c7e8ff44b18d648a663d141d9e7a169@www.akbild.ac.at
CREATED:20220312T182453Z
LAST-MODIFIED:20240802T103217Z
URL:https://www.akbild.ac.at/en/research/art-research-service/calls-contes
 ts/2014/copy2_of_fwf-career-development-for-female-researchers
END:VEVENT
END:VCALENDAR
