BEGIN:VCALENDAR
VERSION:2.0
PRODID:-//Plone.org//NONSGML plone.app.event//EN
X-WR-TIMEZONE:Europe/Vienna
BEGIN:VEVENT
SUMMARY:Creative Europe | Cooperation Projects
DTSTART;VALUE=DATE:20141001
DTEND;VALUE=DATE:20141002
DTSTAMP:20260423T025843Z
UID:12843fb72d3fbaa22645f6658cfd9623@www.akbild.ac.at
CREATED:20220312T182532Z
LAST-MODIFIED:20240802T103217Z
URL:https://www.akbild.ac.at/en/research/art-research-service/calls-contes
 ts/2014/creative-europe-kooperationsprojekte
END:VEVENT
END:VCALENDAR
