BEGIN:VCALENDAR
VERSION:2.0
PRODID:-//Plone.org//NONSGML plone.app.event//EN
X-WR-TIMEZONE:Europe/Vienna
BEGIN:VEVENT
SUMMARY:DOC-Team | Fellowships for interdisciplinary teams in SSH
DTSTART;VALUE=DATE:20141031
DTEND;VALUE=DATE:20141101
DTSTAMP:20260424T100306Z
UID:71146e2b0bf284ca0559318bfc107c23@www.akbild.ac.at
CREATED:20220312T182540Z
LAST-MODIFIED:20240802T103217Z
URL:https://www.akbild.ac.at/en/research/art-research-service/calls-contes
 ts/2014/doc-team-disziplinenuebergreifende-doktorand_innengruppen-in-den-g
 sk
END:VEVENT
END:VCALENDAR
