BEGIN:VCALENDAR
VERSION:2.0
PRODID:-//Plone.org//NONSGML plone.app.event//EN
X-WR-TIMEZONE:Europe/Vienna
BEGIN:VEVENT
SUMMARY:FWF - Career Development for Female Researchers
DTSTART;VALUE=DATE:20141212
DTEND;VALUE=DATE:20141213
DTSTAMP:20260425T041911Z
UID:acd556a407741300276de35e09ce1155@www.akbild.ac.at
CREATED:20220312T182551Z
LAST-MODIFIED:20240802T103217Z
URL:https://www.akbild.ac.at/en/research/art-research-service/calls-contes
 ts/2014/fwf-karrierfoerderprogramme-hertha-firnberg-und-elise-richter
END:VEVENT
END:VCALENDAR
