BEGIN:VCALENDAR
VERSION:2.0
PRODID:-//Plone.org//NONSGML plone.app.event//EN
X-WR-TIMEZONE:Europe/Vienna
BEGIN:VEVENT
SUMMARY:Kino der Kunst | Science & Fiction
DTSTART;VALUE=DATE:20141115
DTEND;VALUE=DATE:20141116
DTSTAMP:20260419T131145Z
UID:54d7cfc145f1b8ee7524384a61488978@www.akbild.ac.at
CREATED:20220312T182552Z
LAST-MODIFIED:20240802T103217Z
URL:https://www.akbild.ac.at/en/research/art-research-service/calls-contes
 ts/2014/kino-der-kunst-science-fiction
END:VEVENT
END:VCALENDAR
