BEGIN:VCALENDAR
VERSION:2.0
PRODID:-//Plone.org//NONSGML plone.app.event//EN
X-WR-TIMEZONE:Europe/Vienna
BEGIN:VEVENT
SUMMARY:KÖR | Public Space „publicly worth living and experiencing”
DTSTART;VALUE=DATE:20140915
DTEND;VALUE=DATE:20140916
DTSTAMP:20260424T133410Z
UID:f242d8cf3c3d3d2b327074afdc13a191@www.akbild.ac.at
CREATED:20220312T182505Z
LAST-MODIFIED:20240802T103217Z
URL:https://www.akbild.ac.at/en/research/art-research-service/calls-contes
 ts/2014/koer-public-space-201eoeffentlich-er-lebenswert201c
END:VEVENT
END:VCALENDAR
