BEGIN:VCALENDAR
VERSION:2.0
PRODID:-//Plone.org//NONSGML plone.app.event//EN
X-WR-TIMEZONE:Europe/Vienna
BEGIN:VEVENT
SUMMARY:Marie Sklodowska Curie - Individual Fellowships
DTSTART;VALUE=DATE:20140911
DTEND;VALUE=DATE:20140912
DTSTAMP:20260419T162340Z
UID:784dbaabf798b6b2998f63741b7261af@www.akbild.ac.at
CREATED:20220312T182520Z
LAST-MODIFIED:20240802T103217Z
URL:https://www.akbild.ac.at/en/research/art-research-service/calls-contes
 ts/2014/marie-sklodowska-curie-individual-fellowships
END:VEVENT
END:VCALENDAR
