BEGIN:VCALENDAR
VERSION:2.0
PRODID:-//Plone.org//NONSGML plone.app.event//EN
X-WR-TIMEZONE:Europe/Vienna
BEGIN:VEVENT
SUMMARY:Exhibition Programme 2016 | Kunstpavillon and Neue Galerie Innsbru
 ck
DTSTART;VALUE=DATE:20150415
DTEND;VALUE=DATE:20150416
DTSTAMP:20260425T153413Z
UID:58b3edd14d9fd80af5419448ff4775cd@www.akbild.ac.at
CREATED:20220312T182736Z
LAST-MODIFIED:20240802T103221Z
URL:https://www.akbild.ac.at/en/research/art-research-service/calls-contes
 ts/2015/ausstellungsprogramm-2016-kunstpavillon-und-neue-galerie-innsbruck
END:VEVENT
END:VCALENDAR
