BEGIN:VCALENDAR
VERSION:2.0
PRODID:-//Plone.org//NONSGML plone.app.event//EN
X-WR-TIMEZONE:Europe/Vienna
BEGIN:VEVENT
SUMMARY:Call for Papers: Graduate Conference 2015
DTSTART;VALUE=DATE:20150415
DTEND;VALUE=DATE:20150416
DTSTAMP:20260421T175358Z
UID:0659e522309854b438fc29d4649976d9@www.akbild.ac.at
CREATED:20220312T182612Z
DESCRIPTION:The next Graduate Conference takes place on the\n \n  17th of 
 June\, 2015\n \n at the Academy of Fine Arts Vienna.
LAST-MODIFIED:20240802T103217Z
URL:https://www.akbild.ac.at/en/research/art-research-service/calls-contes
 ts/2015/call-for-papers-graduiertenkonferenz-2015
END:VEVENT
END:VCALENDAR
