BEGIN:VCALENDAR
VERSION:2.0
PRODID:-//Plone.org//NONSGML plone.app.event//EN
X-WR-TIMEZONE:Europe/Vienna
BEGIN:VEVENT
SUMMARY:FWF | START-Programme
DTSTART;VALUE=DATE:20150918
DTEND;VALUE=DATE:20150919
DTSTAMP:20260421T210950Z
UID:ab2f143f4c57ec480071738784d12dbd@www.akbild.ac.at
CREATED:20220312T182812Z
LAST-MODIFIED:20240802T103221Z
URL:https://www.akbild.ac.at/en/research/art-research-service/calls-contes
 ts/2015/copy_of_fwf-start-programm
END:VEVENT
END:VCALENDAR
