BEGIN:VCALENDAR
VERSION:2.0
PRODID:-//Plone.org//NONSGML plone.app.event//EN
X-WR-TIMEZONE:Europe/Vienna
BEGIN:VEVENT
SUMMARY:Dan David Prize Scholarship
DTSTART;VALUE=DATE:20150315
DTEND;VALUE=DATE:20150316
DTSTAMP:20260423T100043Z
UID:f296d037b4c8be3700b8c7391dd840b7@www.akbild.ac.at
CREATED:20220312T182724Z
LAST-MODIFIED:20240802T103221Z
URL:https://www.akbild.ac.at/en/research/art-research-service/calls-contes
 ts/2015/dan-david-prize-scholarship
END:VEVENT
END:VCALENDAR
