BEGIN:VCALENDAR
VERSION:2.0
PRODID:-//Plone.org//NONSGML plone.app.event//EN
X-WR-TIMEZONE:Europe/Vienna
BEGIN:VEVENT
SUMMARY:Dissertation Completion Fellowship 2015|16
DTSTART;VALUE=DATE:20151103
DTEND;VALUE=DATE:20151104
DTSTAMP:20260421T211822Z
UID:abfddcb55ff06e73b36c597ec02f46b1@www.akbild.ac.at
CREATED:20220312T182828Z
LAST-MODIFIED:20240802T103221Z
URL:https://www.akbild.ac.at/en/research/art-research-service/calls-contes
 ts/2015/dissertationsstipendium-fuer-die-abschlussphase-2015-16
END:VEVENT
END:VCALENDAR
