BEGIN:VCALENDAR
VERSION:2.0
PRODID:-//Plone.org//NONSGML plone.app.event//EN
X-WR-TIMEZONE:Europe/Vienna
BEGIN:VEVENT
SUMMARY:EU Programme Creative Europe - Cooperation Projects
DTSTART;VALUE=DATE:20151007
DTEND;VALUE=DATE:20151008
DTSTAMP:20260421T191729Z
UID:ced72889590ec420f9382b2eeafe6f59@www.akbild.ac.at
CREATED:20220312T182810Z
LAST-MODIFIED:20240802T103221Z
URL:https://www.akbild.ac.at/en/research/art-research-service/calls-contes
 ts/2015/eu-programm-creative-europe-kooperationsprojekte
END:VEVENT
END:VCALENDAR
