BEGIN:VCALENDAR
VERSION:2.0
PRODID:-//Plone.org//NONSGML plone.app.event//EN
X-WR-TIMEZONE:Europe/Vienna
BEGIN:VEVENT
SUMMARY:FFG | Bridge 1
DTSTART;VALUE=DATE:20150908
DTEND;VALUE=DATE:20150909
DTSTAMP:20260421T204709Z
UID:2757d54ba02280c03ec052dcd0095788@www.akbild.ac.at
CREATED:20220312T182811Z
LAST-MODIFIED:20240802T103221Z
URL:https://www.akbild.ac.at/en/research/art-research-service/calls-contes
 ts/2015/ffg-bridge-1
END:VEVENT
END:VCALENDAR
