BEGIN:VCALENDAR
VERSION:2.0
PRODID:-//Plone.org//NONSGML plone.app.event//EN
X-WR-TIMEZONE:Europe/Vienna
BEGIN:VEVENT
SUMMARY:FFG | Marie Sklodowska-Curie Individuelle Fellowships 2015
DTSTART;VALUE=DATE:20150910
DTEND;VALUE=DATE:20150911
DTSTAMP:20260421T193920Z
UID:ef5fda6707a3edf2605375013bc686b3@www.akbild.ac.at
CREATED:20220312T182807Z
LAST-MODIFIED:20240802T103221Z
URL:https://www.akbild.ac.at/en/research/art-research-service/calls-contes
 ts/2015/ffg-marie-sklodowska-curie-individuelle-fellowships-2015
END:VEVENT
END:VCALENDAR
