BEGIN:VCALENDAR
VERSION:2.0
PRODID:-//Plone.org//NONSGML plone.app.event//EN
X-WR-TIMEZONE:Europe/Vienna
BEGIN:VEVENT
SUMMARY:Franz Werfel and Richard Plaschka Grants
DTSTART;VALUE=DATE:20150301
DTEND;VALUE=DATE:20150302
DTSTAMP:20260424T032931Z
UID:285bdf0fd50f07ea0cd1cb92017c789a@www.akbild.ac.at
CREATED:20220312T182722Z
LAST-MODIFIED:20240802T103221Z
URL:https://www.akbild.ac.at/en/research/art-research-service/calls-contes
 ts/2015/franz-werfel-und-richard-plaschka-stipendien
END:VEVENT
END:VCALENDAR
