BEGIN:VCALENDAR
VERSION:2.0
PRODID:-//Plone.org//NONSGML plone.app.event//EN
X-WR-TIMEZONE:Europe/Vienna
BEGIN:VEVENT
SUMMARY:Grand Prix Fotofestiwal 2016 | Lodz
DTSTART;VALUE=DATE:20151210
DTEND;VALUE=DATE:20151211
DTSTAMP:20260426T034704Z
UID:b998ebe005c6335186d2cab19d0cd8f1@www.akbild.ac.at
CREATED:20220312T182838Z
LAST-MODIFIED:20240802T103221Z
URL:https://www.akbild.ac.at/en/research/art-research-service/calls-contes
 ts/2015/grand-prix-fotofestival-2016-lodz
END:VEVENT
END:VCALENDAR
