BEGIN:VCALENDAR
VERSION:2.0
PRODID:-//Plone.org//NONSGML plone.app.event//EN
X-WR-TIMEZONE:Europe/Vienna
BEGIN:VEVENT
SUMMARY:Call For Papers | JAR - Journal for Artistic Research | Spring 201
 6
DTSTART;VALUE=DATE:20151130
DTEND;VALUE=DATE:20151201
DTSTAMP:20260423T113226Z
UID:82fa8929af40cc1b99f8617a70ea1965@www.akbild.ac.at
CREATED:20220312T182845Z
LAST-MODIFIED:20240802T103221Z
URL:https://www.akbild.ac.at/en/research/art-research-service/calls-contes
 ts/2015/jar-journal-for-artistic-research-spring-2016
END:VEVENT
END:VCALENDAR
