BEGIN:VCALENDAR
VERSION:2.0
PRODID:-//Plone.org//NONSGML plone.app.event//EN
X-WR-TIMEZONE:Europe/Vienna
BEGIN:VEVENT
SUMMARY:kültür gemma! Promoting City Culture in Vienna
DTSTART;VALUE=DATE:20150127
DTEND;VALUE=DATE:20150128
DTSTAMP:20260423T193111Z
UID:b55e6e3a4a07aeafdd2bf0ca75f3de11@www.akbild.ac.at
CREATED:20220312T182609Z
LAST-MODIFIED:20240802T103217Z
URL:https://www.akbild.ac.at/en/research/art-research-service/calls-contes
 ts/2015/kueltuer-gemma-stadtkulturfoerderung-in-wien
END:VEVENT
END:VCALENDAR
