BEGIN:VCALENDAR
VERSION:2.0
PRODID:-//Plone.org//NONSGML plone.app.event//EN
X-WR-TIMEZONE:Europe/Vienna
BEGIN:VEVENT
SUMMARY:NordArt 2016
DTSTART;VALUE=DATE:20151215
DTEND;VALUE=DATE:20151216
DTSTAMP:20260426T034536Z
UID:2e23c19ea5a7c6abed7b0fec61b6312f@www.akbild.ac.at
CREATED:20220312T182835Z
LAST-MODIFIED:20240802T103221Z
URL:https://www.akbild.ac.at/en/research/art-research-service/calls-contes
 ts/2015/nordart-2016
END:VEVENT
END:VCALENDAR
