BEGIN:VCALENDAR
VERSION:2.0
PRODID:-//Plone.org//NONSGML plone.app.event//EN
X-WR-TIMEZONE:Europe/Vienna
BEGIN:VEVENT
SUMMARY:Prix Ars Electronica 2015
DTSTART;VALUE=DATE:20150306
DTEND;VALUE=DATE:20150307
DTSTAMP:20260424T151836Z
UID:c51fe550a402567a3b71150f705349c8@www.akbild.ac.at
CREATED:20220312T182723Z
LAST-MODIFIED:20240802T103221Z
URL:https://www.akbild.ac.at/en/research/art-research-service/calls-contes
 ts/2015/prix-ars-electronica-2015
END:VEVENT
END:VCALENDAR
