BEGIN:VCALENDAR
VERSION:2.0
PRODID:-//Plone.org//NONSGML plone.app.event//EN
X-WR-TIMEZONE:Europe/Vienna
BEGIN:VEVENT
SUMMARY:Scientific and Technological Cooperation | Poland
DTSTART;VALUE=DATE:20150930
DTEND;VALUE=DATE:20151001
DTSTAMP:20260421T192852Z
UID:38a2d6844d8052f04552d155417ebc88@www.akbild.ac.at
CREATED:20220312T182808Z
LAST-MODIFIED:20240802T103221Z
URL:https://www.akbild.ac.at/en/research/art-research-service/calls-contes
 ts/2015/scientific-and-technological-cooperation-poland
END:VEVENT
END:VCALENDAR
