BEGIN:VCALENDAR
VERSION:2.0
PRODID:-//Plone.org//NONSGML plone.app.event//EN
X-WR-TIMEZONE:Europe/Vienna
BEGIN:VEVENT
SUMMARY:Fellowships Joint Research Project Kupferstichkabinett online
DTSTART;VALUE=DATE:20151115
DTEND;VALUE=DATE:20151116
DTSTAMP:20260426T034848Z
UID:cc477b33cfffecec140b028bd4d3ae6c@www.akbild.ac.at
CREATED:20220312T182833Z
LAST-MODIFIED:20240802T103221Z
URL:https://www.akbild.ac.at/en/research/art-research-service/calls-contes
 ts/2015/stipendien-verbundprojekt-kupferstichkabinett-online
END:VEVENT
END:VCALENDAR
