BEGIN:VCALENDAR
VERSION:2.0
PRODID:-//Plone.org//NONSGML plone.app.event//EN
X-WR-TIMEZONE:Europe/Vienna
BEGIN:VEVENT
SUMMARY:Themed competition | Provocateurs | stoerpunkt Gallery Munich
DTSTART;VALUE=DATE:20151130
DTEND;VALUE=DATE:20151201
DTSTAMP:20260424T105643Z
UID:905a52a36a730a2ef10f16e77a0660b5@www.akbild.ac.at
CREATED:20220312T182844Z
LAST-MODIFIED:20240802T103221Z
URL:https://www.akbild.ac.at/en/research/art-research-service/calls-contes
 ts/2015/themenwettbewerb-der-galerie-stoerpunkt-muenchen
END:VEVENT
END:VCALENDAR
