BEGIN:VCALENDAR
VERSION:2.0
PRODID:-//Plone.org//NONSGML plone.app.event//EN
X-WR-TIMEZONE:Europe/Vienna
BEGIN:VEVENT
SUMMARY:Vienna Independent Shorts 2015
DTSTART;VALUE=DATE:20150104
DTEND;VALUE=DATE:20150105
DTSTAMP:20260423T114257Z
UID:2b32caf65ceecfe06f4de96e31b61b81@www.akbild.ac.at
CREATED:20220312T182607Z
LAST-MODIFIED:20240802T103217Z
URL:https://www.akbild.ac.at/en/research/art-research-service/calls-contes
 ts/2015/vienna-independent-shorts-2015
END:VEVENT
END:VCALENDAR
