BEGIN:VCALENDAR
VERSION:2.0
PRODID:-//Plone.org//NONSGML plone.app.event//EN
X-WR-TIMEZONE:Europe/Vienna
BEGIN:VEVENT
SUMMARY:Call for Concepts | Amsterdam Light Festival 2016-2017
DTSTART;VALUE=DATE:20160311
DTEND;VALUE=DATE:20160312
DTSTAMP:20260423T084436Z
UID:4fed0cf1be64bcc49902ec3c15a69c98@www.akbild.ac.at
CREATED:20220312T183042Z
LAST-MODIFIED:20240802T103221Z
URL:https://www.akbild.ac.at/en/research/art-research-service/calls-contes
 ts/2016/amsterdam-light-festival
END:VEVENT
END:VCALENDAR
