BEGIN:VCALENDAR
VERSION:2.0
PRODID:-//Plone.org//NONSGML plone.app.event//EN
X-WR-TIMEZONE:Europe/Vienna
BEGIN:VEVENT
SUMMARY:Residence program for artists\, curators and researchers | Youkobo
  Art Space | Japan
DTSTART;VALUE=DATE:20160630
DTEND;VALUE=DATE:20160701
DTSTAMP:20260424T120941Z
UID:3a850089e777580629c525089407b058@www.akbild.ac.at
CREATED:20220312T183312Z
DESCRIPTION:Youkobo Art Space\n \n in Japan\n \n \n is currently accepting
  applications to its 2017 residence program.
LAST-MODIFIED:20240802T103225Z
URL:https://www.akbild.ac.at/en/research/art-research-service/calls-contes
 ts/2016/artist-in-residence-for-artists-curators-and-researchers-youkobo-a
 rt-space-japan
END:VEVENT
END:VCALENDAR
