BEGIN:VCALENDAR
VERSION:2.0
PRODID:-//Plone.org//NONSGML plone.app.event//EN
X-WR-TIMEZONE:Europe/Vienna
BEGIN:VEVENT
SUMMARY:Call for papers | InSEA Regional Conference Vienna | Art and Desig
 n Education in Times of Change
DTSTART;VALUE=DATE:20160523
DTEND;VALUE=DATE:20160524
DTSTAMP:20260423T114609Z
UID:09b51f9ec56faee343c2ef8b90819cbf@www.akbild.ac.at
CREATED:20220312T183146Z
LAST-MODIFIED:20240802T103225Z
URL:https://www.akbild.ac.at/en/research/art-research-service/calls-contes
 ts/2016/call-for-papers-insea-regional-conference-vienna-art-and-design-ed
 ucation-in-times-of-change
END:VEVENT
END:VCALENDAR
