BEGIN:VCALENDAR
VERSION:2.0
PRODID:-//Plone.org//NONSGML plone.app.event//EN
X-WR-TIMEZONE:Europe/Vienna
BEGIN:VEVENT
SUMMARY:Call for Entries | this human world | Festival Trailer and Festiva
 l Sujet 2016
DTSTART;VALUE=DATE:20160630
DTEND;VALUE=DATE:20160701
DTSTAMP:20260423T114340Z
UID:75c0c7eb509466bd6227445e93d9f889@www.akbild.ac.at
CREATED:20220312T183324Z
DESCRIPTION:this human world – International Human Rights Film Festival\
 n \n \, is  looking for a festival trailer and a visual festival sujet for
  its 9th  edition in Vienna\, Austria (December 1st-11th 2016).
LAST-MODIFIED:20240802T103225Z
URL:https://www.akbild.ac.at/en/research/art-research-service/calls-contes
 ts/2016/call-this-human-world-festivaltrailer-und-festivalsujet-2016
END:VEVENT
END:VCALENDAR
