BEGIN:VCALENDAR
VERSION:2.0
PRODID:-//Plone.org//NONSGML plone.app.event//EN
X-WR-TIMEZONE:Europe/Vienna
BEGIN:VEVENT
SUMMARY:das weisse haus | Scholarship | Graduate Curatorial Program
DTSTART;VALUE=DATE:20160219
DTEND;VALUE=DATE:20160220
DTSTAMP:20260423T141916Z
UID:97a31221ba89912dce41a5b8d3643234@www.akbild.ac.at
CREATED:20220312T182928Z
LAST-MODIFIED:20240802T103221Z
URL:https://www.akbild.ac.at/en/research/art-research-service/calls-contes
 ts/2016/das-weisse-haus
END:VEVENT
END:VCALENDAR
