BEGIN:VCALENDAR
VERSION:2.0
PRODID:-//Plone.org//NONSGML plone.app.event//EN
X-WR-TIMEZONE:Europe/Vienna
BEGIN:VEVENT
SUMMARY:Dissertation Prize for Research on Migration
DTSTART;VALUE=DATE:20160215
DTEND;VALUE=DATE:20160216
DTSTAMP:20260424T064816Z
UID:33e3d438cf9f64634f5b11305639ec52@www.akbild.ac.at
CREATED:20220312T182923Z
LAST-MODIFIED:20240802T103221Z
URL:https://www.akbild.ac.at/en/research/art-research-service/calls-contes
 ts/2016/dissertationspreis-migrationsforschung
END:VEVENT
END:VCALENDAR
