BEGIN:VCALENDAR
VERSION:2.0
PRODID:-//Plone.org//NONSGML plone.app.event//EN
X-WR-TIMEZONE:Europe/Vienna
BEGIN:VEVENT
SUMMARY:Doc und Postdoc Fellowships | Connecting Art Histories in the Muse
 um | Berlin
DTSTART;VALUE=DATE:20160304
DTEND;VALUE=DATE:20160305
DTSTAMP:20260424T100302Z
UID:6ec5f277ad44bb74decae008de28c869@www.akbild.ac.at
CREATED:20220312T183004Z
LAST-MODIFIED:20240802T103221Z
URL:https://www.akbild.ac.at/en/research/art-research-service/calls-contes
 ts/2016/doc-und-postdoc-stipendien-connecting-art-histories-in-the-museum-
 berlin
END:VEVENT
END:VCALENDAR
