BEGIN:VCALENDAR
VERSION:2.0
PRODID:-//Plone.org//NONSGML plone.app.event//EN
X-WR-TIMEZONE:Europe/Vienna
BEGIN:VEVENT
SUMMARY:ELIA | NEXT Accelerator Residency | Amsterdam
DTSTART;VALUE=DATE:20160120
DTEND;VALUE=DATE:20160121
DTSTAMP:20260425T012831Z
UID:1f292afc13ca90aeaef903935128b4de@www.akbild.ac.at
CREATED:20220312T182859Z
LAST-MODIFIED:20240802T103221Z
URL:https://www.akbild.ac.at/en/research/art-research-service/calls-contes
 ts/2016/elia-next-accelerator-residency
END:VEVENT
END:VCALENDAR
