BEGIN:VCALENDAR
VERSION:2.0
PRODID:-//Plone.org//NONSGML plone.app.event//EN
X-WR-TIMEZONE:Europe/Vienna
BEGIN:VEVENT
SUMMARY:Emil Boral Scholarship
DTSTART;VALUE=DATE:20160901
DTEND;VALUE=DATE:20160902
DTSTAMP:20260423T175709Z
UID:8bb4cdf65e914b23fbc84fb07ca0b1fd@www.akbild.ac.at
CREATED:20220312T183431Z
DESCRIPTION:The Emil Boral Scholarship is available to young scientists in
  Austria  and Switzerland (postgraduates) who have already completed an ac
 ademic  course at a university. An austrian or swiss citizenship is requir
 ed.
LAST-MODIFIED:20240802T103225Z
URL:https://www.akbild.ac.at/en/research/art-research-service/calls-contes
 ts/2016/emil-boral-stipendium
END:VEVENT
END:VCALENDAR
