BEGIN:VCALENDAR
VERSION:2.0
PRODID:-//Plone.org//NONSGML plone.app.event//EN
X-WR-TIMEZONE:Europe/Vienna
BEGIN:VEVENT
SUMMARY:European Forum Alpbach 2016 | Scholarship Programme
DTSTART;VALUE=DATE:20160331
DTEND;VALUE=DATE:20160401
DTSTAMP:20260424T145803Z
UID:4daebe656382cfbaf13e9cc68858ced5@www.akbild.ac.at
CREATED:20220312T183052Z
LAST-MODIFIED:20240802T103221Z
URL:https://www.akbild.ac.at/en/research/art-research-service/calls-contes
 ts/2016/europaeischen-forums-alpbach-stipendien
END:VEVENT
END:VCALENDAR
