BEGIN:VCALENDAR
VERSION:2.0
PRODID:-//Plone.org//NONSGML plone.app.event//EN
X-WR-TIMEZONE:Europe/Vienna
BEGIN:VEVENT
SUMMARY:Eyes On - Month of Photography Vienna 2016
DTSTART;VALUE=DATE:20160330
DTEND;VALUE=DATE:20160331
DTSTAMP:20260425T225922Z
UID:045751a81cbba9d0d1417d948a233218@www.akbild.ac.at
CREATED:20220312T183050Z
LAST-MODIFIED:20240802T103221Z
URL:https://www.akbild.ac.at/en/research/art-research-service/calls-contes
 ts/2016/eyes-on-monat-der-fotografie-wien-projekteinreichung
END:VEVENT
END:VCALENDAR
