BEGIN:VCALENDAR
VERSION:2.0
PRODID:-//Plone.org//NONSGML plone.app.event//EN
X-WR-TIMEZONE:Europe/Vienna
BEGIN:VEVENT
SUMMARY:FWF | Science Communication Programme
DTSTART;VALUE=DATE:20160919
DTEND;VALUE=DATE:20160920
DTSTAMP:20260419T150453Z
UID:c23e5f0236ab457b983289a4cb047e77@www.akbild.ac.at
CREATED:20220312T183435Z
DESCRIPTION:Grants are awarded for outstanding science communication measu
 res related to the research project funded by the FWF.
LAST-MODIFIED:20240802T103225Z
URL:https://www.akbild.ac.at/en/research/art-research-service/calls-contes
 ts/2016/fwf-wissenschaftskommunikationsprogramm-2016
END:VEVENT
END:VCALENDAR
