BEGIN:VCALENDAR
VERSION:2.0
PRODID:-//Plone.org//NONSGML plone.app.event//EN
X-WR-TIMEZONE:Europe/Vienna
BEGIN:VEVENT
SUMMARY:Living in a Dizzying World | Art Competition and Survey
DTSTART;VALUE=DATE:20160201
DTEND;VALUE=DATE:20160202
DTSTAMP:20260426T042441Z
UID:7f1c2997de6930ce5924ae6a34e6a68a@www.akbild.ac.at
CREATED:20220312T182913Z
LAST-MODIFIED:20240802T103221Z
URL:https://www.akbild.ac.at/en/research/art-research-service/calls-contes
 ts/2016/kunstwettbewerb-und-umfrage-die-welt-im-taumel
END:VEVENT
END:VCALENDAR
