BEGIN:VCALENDAR
VERSION:2.0
PRODID:-//Plone.org//NONSGML plone.app.event//EN
X-WR-TIMEZONE:Europe/Vienna
BEGIN:VEVENT
SUMMARY:La Biennale Venice Summer School 2016
DTSTART;VALUE=DATE:20160610
DTEND;VALUE=DATE:20160611
DTSTAMP:20260424T223138Z
UID:678261b97b1b6daf804df8d35e695cff@www.akbild.ac.at
CREATED:20220312T183238Z
DESCRIPTION:On  the occasion of the\n \n  Biennale Architettura 2016\n \n 
 the inaugural\n \n  La   Biennale Summer School 2016\n \n is  announced.
LAST-MODIFIED:20240802T103225Z
URL:https://www.akbild.ac.at/en/research/art-research-service/calls-contes
 ts/2016/la-biennale-venice-summer-school-2016
END:VEVENT
END:VCALENDAR
