BEGIN:VCALENDAR
VERSION:2.0
PRODID:-//Plone.org//NONSGML plone.app.event//EN
X-WR-TIMEZONE:Europe/Vienna
BEGIN:VEVENT
SUMMARY:Travel grants | Global Academy Conference | Salzburg
DTSTART;VALUE=DATE:20160610
DTEND;VALUE=DATE:20160611
DTSTAMP:20260424T054718Z
UID:b435399b89c8785821cee951514f64b4@www.akbild.ac.at
CREATED:20220312T183237Z
DESCRIPTION:Call for travel grant applications to attend the\n \n  Global 
 Academy Conference: Learning and Teaching Art in the Globalised World\n \n
  (5-6 August 2016) in Salzburg.
LAST-MODIFIED:20240802T103225Z
URL:https://www.akbild.ac.at/en/research/art-research-service/calls-contes
 ts/2016/reisekostenstipendium-global-academy-conference-salzburg
END:VEVENT
END:VCALENDAR
