BEGIN:VCALENDAR
VERSION:2.0
PRODID:-//Plone.org//NONSGML plone.app.event//EN
X-WR-TIMEZONE:Europe/Vienna
BEGIN:VEVENT
SUMMARY:Society of Architectural Historians | H. Allen Brooks Travelling F
 ellowship
DTSTART;VALUE=DATE:20161003
DTEND;VALUE=DATE:20161004
DTSTAMP:20260424T205351Z
UID:e5708b1d2e03ada47fb0918a9df8017b@www.akbild.ac.at
CREATED:20220312T183453Z
DESCRIPTION:The prestigious\n \n  H. Allen Brooks Travelling Fellowshi\n \
 n p by the SAH will allow a recent graduate or emerging scholar to study b
 y travel for one year.
LAST-MODIFIED:20240802T103225Z
URL:https://www.akbild.ac.at/en/research/art-research-service/calls-contes
 ts/2016/society-of-architectural-historians-h.-allen-brooks-travelling-fel
 lowship
END:VEVENT
END:VCALENDAR
