BEGIN:VCALENDAR
VERSION:2.0
PRODID:-//Plone.org//NONSGML plone.app.event//EN
X-WR-TIMEZONE:Europe/Vienna
BEGIN:VEVENT
SUMMARY:Call for proposals | kültüř gemma! 2016
DTSTART;VALUE=DATE:20160320
DTEND;VALUE=DATE:20160321
DTSTAMP:20260421T192511Z
UID:310a4e3949c2ce43ae7395cf9a3614bc@www.akbild.ac.at
CREATED:20220312T183049Z
LAST-MODIFIED:20240802T103221Z
URL:https://www.akbild.ac.at/en/research/art-research-service/calls-contes
 ts/2016/stipendienausschreibung-kueltuer-gemma-2016
END:VEVENT
END:VCALENDAR
