BEGIN:VCALENDAR
VERSION:2.0
PRODID:-//Plone.org//NONSGML plone.app.event//EN
X-WR-TIMEZONE:Europe/Vienna
BEGIN:VEVENT
SUMMARY:studio das weisse haus | call for international curators and theor
 ists in residence
DTSTART;TZID=Europe/Vienna:20160415T190000
DTSTAMP:20260425T212533Z
UID:603f6eeeea3afa80ffd4b1ea2edf1268@www.akbild.ac.at
CREATED:20220312T183122Z
LAST-MODIFIED:20240802T103225Z
URL:https://www.akbild.ac.at/en/research/art-research-service/calls-contes
 ts/2016/studio-das-weisse-haus-call-international-curators-and-therorists-
 in-residence
END:VEVENT
BEGIN:VTIMEZONE
TZID:Europe/Vienna
X-LIC-LOCATION:Europe/Vienna
BEGIN:DAYLIGHT
DTSTART:20160327T030000
TZNAME:CEST
TZOFFSETFROM:+0100
TZOFFSETTO:+0200
END:DAYLIGHT
END:VTIMEZONE
END:VCALENDAR
