BEGIN:VCALENDAR
VERSION:2.0
PRODID:-//Plone.org//NONSGML plone.app.event//EN
X-WR-TIMEZONE:Europe/Vienna
BEGIN:VEVENT
SUMMARY:Theodor-Fischer-Award 2016 | ZI Munich
DTSTART;VALUE=DATE:20160305
DTEND;VALUE=DATE:20160306
DTSTAMP:20260426T034821Z
UID:0a0b66a1a110d531cc0d047f8eadc46d@www.akbild.ac.at
CREATED:20220312T183005Z
LAST-MODIFIED:20240802T103221Z
URL:https://www.akbild.ac.at/en/research/art-research-service/calls-contes
 ts/2016/theodor-fischer-preis-2016-zi-muenchen
END:VEVENT
END:VCALENDAR
